BEGIN:VCALENDAR
VERSION:2.0
PRODID:-//Plone.org//NONSGML plone.app.event//EN
X-WR-TIMEZONE:Brazil/East
BEGIN:VEVENT
SUMMARY:1º Ano do Site
DTSTART;TZID=Brazil/East;VALUE=DATE-TIME:20220330T000000
DTEND;TZID=Brazil/East;VALUE=DATE-TIME:20220330T235959
DTSTAMP;VALUE=DATE-TIME:20260421T160229Z
UID:83741dbd94384becb7ac1c3a8bac6823
CREATED;VALUE=DATE-TIME:20210330T122020Z
DESCRIPTION:Aniversário de primeiro ano do site desta Casa Legislativa. (
 este evento é um conteúdo de exemplo e pode ser removido)
LAST-MODIFIED;VALUE=DATE-TIME:20210330T122045Z
URL:https://www.passavinte.mg.leg.br/institucional/eventos/1o-ano-do-site
END:VEVENT
BEGIN:VEVENT
SUMMARY:Reunião Ordinária
DTSTART;TZID=Brazil/East;VALUE=DATE-TIME:20211202T190000
DTSTAMP;VALUE=DATE-TIME:20260421T160229Z
UID:5ec07b460e9e43e79b8043820f17da4f@www.passavinte.mg.leg.br
CREATED;VALUE=DATE-TIME:20210504T215649Z
LAST-MODIFIED;VALUE=DATE-TIME:20210504T220800Z
URL:https://www.passavinte.mg.leg.br/institucional/eventos/reuniao-ordinar
 ia-12
END:VEVENT
BEGIN:VEVENT
SUMMARY:Reunião Ordinária
DTSTART;TZID=Brazil/East;VALUE=DATE-TIME:20211118T190000
DTEND;TZID=Brazil/East;VALUE=DATE-TIME:20211118T200000
DTSTAMP;VALUE=DATE-TIME:20260421T160229Z
UID:be82da500a474ea0bc69f5f0a06388c7@www.passavinte.mg.leg.br
CREATED;VALUE=DATE-TIME:20210504T215625Z
LAST-MODIFIED;VALUE=DATE-TIME:20210504T220800Z
URL:https://www.passavinte.mg.leg.br/institucional/eventos/reuniao-ordinar
 ia-11
END:VEVENT
BEGIN:VEVENT
SUMMARY:Reunião Ordinária
DTSTART;TZID=Brazil/East;VALUE=DATE-TIME:20211104T190000
DTSTAMP;VALUE=DATE-TIME:20260421T160229Z
UID:ff4237df936142479e6c1fce1250e4bb@www.passavinte.mg.leg.br
CREATED;VALUE=DATE-TIME:20210504T215557Z
LAST-MODIFIED;VALUE=DATE-TIME:20210504T220800Z
URL:https://www.passavinte.mg.leg.br/institucional/eventos/reuniao-ordinar
 ia-10
END:VEVENT
BEGIN:VEVENT
SUMMARY:Reunião Ordinária
DTSTART;TZID=Brazil/East;VALUE=DATE-TIME:20211021T190000
DTSTAMP;VALUE=DATE-TIME:20260421T160229Z
UID:85b233783b7e4ebf9896e0d537d79607@www.passavinte.mg.leg.br
CREATED;VALUE=DATE-TIME:20210504T215531Z
LAST-MODIFIED;VALUE=DATE-TIME:20210504T220800Z
URL:https://www.passavinte.mg.leg.br/institucional/eventos/reuniao-ordinar
 ia-9
END:VEVENT
BEGIN:VEVENT
SUMMARY:Reunião Ordinária
DTSTART;TZID=Brazil/East;VALUE=DATE-TIME:20211007T190000
DTSTAMP;VALUE=DATE-TIME:20260421T160229Z
UID:4a5e06e5438242029599329c601f5974@www.passavinte.mg.leg.br
CREATED;VALUE=DATE-TIME:20210504T215506Z
LAST-MODIFIED;VALUE=DATE-TIME:20210504T220800Z
URL:https://www.passavinte.mg.leg.br/institucional/eventos/reuniao-ordinar
 ia-8
END:VEVENT
BEGIN:VEVENT
SUMMARY:Reunião Ordinária
DTSTART;TZID=Brazil/East;VALUE=DATE-TIME:20210916T190000
DTSTAMP;VALUE=DATE-TIME:20260421T160229Z
UID:6701ea8300a6422e9521c6fce90d28e8@www.passavinte.mg.leg.br
CREATED;VALUE=DATE-TIME:20210504T215442Z
LAST-MODIFIED;VALUE=DATE-TIME:20210504T220800Z
URL:https://www.passavinte.mg.leg.br/institucional/eventos/reuniao-ordinar
 ia-7
END:VEVENT
BEGIN:VEVENT
SUMMARY:Reunião Ordinária
DTSTART;TZID=Brazil/East;VALUE=DATE-TIME:20210902T190000
DTSTAMP;VALUE=DATE-TIME:20260421T160229Z
UID:47ff1d281d5841d4b5a023d9f1668597@www.passavinte.mg.leg.br
CREATED;VALUE=DATE-TIME:20210504T215420Z
LAST-MODIFIED;VALUE=DATE-TIME:20210504T220800Z
URL:https://www.passavinte.mg.leg.br/institucional/eventos/reuniao-ordinar
 ia-6
END:VEVENT
BEGIN:VEVENT
SUMMARY:Reunião Ordinária
DTSTART;TZID=Brazil/East;VALUE=DATE-TIME:20210819T190000
DTSTAMP;VALUE=DATE-TIME:20260421T160229Z
UID:cb16419dc0c947d1a2138ca9533b72f5@www.passavinte.mg.leg.br
CREATED;VALUE=DATE-TIME:20210504T215355Z
LAST-MODIFIED;VALUE=DATE-TIME:20210504T220759Z
URL:https://www.passavinte.mg.leg.br/institucional/eventos/reuniao-ordinar
 ia-5
END:VEVENT
BEGIN:VEVENT
SUMMARY:Reunião Ordinária
DTSTART;TZID=Brazil/East;VALUE=DATE-TIME:20210805T190000
DTSTAMP;VALUE=DATE-TIME:20260421T160229Z
UID:6a84f78c447643089ed485c345882b82@www.passavinte.mg.leg.br
CREATED;VALUE=DATE-TIME:20210504T215332Z
LAST-MODIFIED;VALUE=DATE-TIME:20210504T220759Z
URL:https://www.passavinte.mg.leg.br/institucional/eventos/reuniao-ordinar
 ia-4
END:VEVENT
BEGIN:VEVENT
SUMMARY:Reunião Ordinária
DTSTART;TZID=Brazil/East;VALUE=DATE-TIME:20210618T190000
DTSTAMP;VALUE=DATE-TIME:20260421T160229Z
UID:c0908fb509dd458cb599f442cd570370@www.passavinte.mg.leg.br
CREATED;VALUE=DATE-TIME:20210504T215255Z
LAST-MODIFIED;VALUE=DATE-TIME:20210504T220759Z
URL:https://www.passavinte.mg.leg.br/institucional/eventos/reuniao-ordinar
 ia-3
END:VEVENT
BEGIN:VEVENT
SUMMARY:Reunião Ordinária
DTSTART;TZID=Brazil/East;VALUE=DATE-TIME:20210604T190000
DTSTAMP;VALUE=DATE-TIME:20260421T160229Z
UID:69fef7598d294982b45f2691e2c9c5f8@www.passavinte.mg.leg.br
CREATED;VALUE=DATE-TIME:20210504T215237Z
LAST-MODIFIED;VALUE=DATE-TIME:20210504T220759Z
URL:https://www.passavinte.mg.leg.br/institucional/eventos/reuniao-ordinar
 ia-2
END:VEVENT
BEGIN:VEVENT
SUMMARY:Reunião Ordinária
DTSTART;TZID=Brazil/East;VALUE=DATE-TIME:20210520T190000
DTSTAMP;VALUE=DATE-TIME:20260421T160229Z
UID:d69fbe35cb6946d8ab2ba4d160d5717e@www.passavinte.mg.leg.br
CREATED;VALUE=DATE-TIME:20210504T215123Z
LAST-MODIFIED;VALUE=DATE-TIME:20210504T220941Z
URL:https://www.passavinte.mg.leg.br/institucional/eventos/reuniao-ordinar
 ia-1
END:VEVENT
BEGIN:VEVENT
SUMMARY:Reunião Ordinária
DTSTART;TZID=Brazil/East;VALUE=DATE-TIME:20210520T190000
DTSTAMP;VALUE=DATE-TIME:20260421T160229Z
UID:b67311c8def44b70ad2de3c3820ce70e@www.passavinte.mg.leg.br
CREATED;VALUE=DATE-TIME:20210504T220700Z
LAST-MODIFIED;VALUE=DATE-TIME:20210504T220703Z
URL:https://www.passavinte.mg.leg.br/institucional/eventos/reuniao-ordinar
 ia-14
END:VEVENT
BEGIN:VEVENT
SUMMARY:Reunião Ordinária
DTSTART;TZID=Brazil/East;VALUE=DATE-TIME:20210506T190000
DTSTAMP;VALUE=DATE-TIME:20260421T160229Z
UID:8aec702f869f4795989cc8c817f54a44@www.passavinte.mg.leg.br
CREATED;VALUE=DATE-TIME:20210504T215058Z
LAST-MODIFIED;VALUE=DATE-TIME:20210504T220904Z
URL:https://www.passavinte.mg.leg.br/institucional/eventos/reuniao-ordinar
 ia
END:VEVENT
BEGIN:VEVENT
SUMMARY:Reunião Ordinária
DTSTART;TZID=Brazil/East;VALUE=DATE-TIME:20210506T190000
DTSTAMP;VALUE=DATE-TIME:20260421T160229Z
UID:c54660788ac14223b847228a1bc24bfe@www.passavinte.mg.leg.br
CREATED;VALUE=DATE-TIME:20210504T220441Z
LAST-MODIFIED;VALUE=DATE-TIME:20210504T220533Z
URL:https://www.passavinte.mg.leg.br/institucional/eventos/reuniao-ordinar
 ia-13
END:VEVENT
BEGIN:VTIMEZONE
TZID:Brazil/East
X-LIC-LOCATION:Brazil/East
BEGIN:STANDARD
DTSTART;VALUE=DATE-TIME:20220219T230000
TZNAME:BRT
TZOFFSETFROM:-0200
TZOFFSETTO:-0300
END:STANDARD
BEGIN:DAYLIGHT
DTSTART;VALUE=DATE-TIME:20211017T010000
TZNAME:BRST
TZOFFSETFROM:-0300
TZOFFSETTO:-0200
END:DAYLIGHT
BEGIN:STANDARD
DTSTART;VALUE=DATE-TIME:20210220T230000
TZNAME:BRT
TZOFFSETFROM:-0200
TZOFFSETTO:-0300
END:STANDARD
END:VTIMEZONE
END:VCALENDAR
